BEGIN:VCALENDAR
VERSION:2.0
PRODID:-//ChamberMaster//Event Calendar 2.0//EN
METHOD:PUBLISH
X-PUBLISHED-TTL:P3D
REFRESH-INTERVAL:P3D
CALSCALE:GREGORIAN
BEGIN:VEVENT
DTSTART:20240927T003000Z
DTEND:20240927T023000Z
X-MICROSOFT-CDO-ALLDAYEVENT:FALSE
SUMMARY:YPG Politics 101: All You Need to Know Before You Vote!
DESCRIPTION:Thursday\, September 26\, 5:30-7:30PM\n\nYPG Politics 101: All You Need to Know Before You Vote!\n\nVentura College\, Guthrie Hall\, 4667 Telegraph Rd.\, Ventura\n\nJoin us for Politics 101! This free event will guide you through the 2024 ballot. You'll leave with the knowledge you need to find accurate election information this season  and beyond!\n\n-How things end up on the ballot\n\n-A 2024 ballot review \n\n-Tips on where to find accurate information on ballot measures & candidates\n\nPlus\, hear about the new FAIR housing collective and learn how it came to be.
X-ALT-DESC;FMTTYPE=text/html:<strong>Thursday\, September 26\, 5:30-7:30PM</strong><br />\n<strong>YPG Politics 101: All You Need to Know Before You Vote!</strong><br />\n<em>Ventura College\, Guthrie Hall\, 4667 Telegraph Rd.\, Ventura</em><br />\nJoin us for Politics 101! This free event will guide you through the 2024 ballot. You&rsquo\;ll leave with the knowledge you need to find accurate election information this season&mdash\; and beyond!<br />\n-How things end up on the ballot<br />\n-A 2024 ballot review&nbsp\;<br />\n-Tips on where to find accurate information on ballot measures &amp\; candidates<br />\nPlus\, hear about the new FAIR housing collective and learn how it came to be.&nbsp\;
LOCATION:Ventura College\, Guthrie Hall\, 4667 Telegraph Rd.\, Ventura
UID:e.827.23222
SEQUENCE:3
DTSTAMP:20260423T224725Z
URL:https://business.venturachamber.com/events/details/ypg-politics-101-all-you-need-to-know-before-you-vote-23222
END:VEVENT

END:VCALENDAR
