BEGIN:VCALENDAR
VERSION:2.0
PRODID:-//ChamberMaster//Event Calendar 2.0//EN
METHOD:PUBLISH
X-PUBLISHED-TTL:P3D
REFRESH-INTERVAL:P3D
CALSCALE:GREGORIAN
BEGIN:VEVENT
DTSTART;VALUE=DATE:20260425
DTEND;VALUE=DATE:20260426
TRANSP:TRANSPARENT
X-MICROSOFT-CDO-ALLDAYEVENT:TRUE
SUMMARY:VOLUNTEERS WANTED For Downtown Ventura Mini Golf Challenge!
DESCRIPTION:We are looking for volunteers to help with the Downtown Ventura Mini Golf Challenge!\n\n\n\nSaturday\, April 25th we are turning the 5 block section of the Downtown Ventura Main Street closure\, into an 18 hole Miniature Golf Course.\n\n \n\n\n\nLocal architects\, land designers\, builders and contractors have been partnered and together they are designing and building 18 one of a kind\, mini golf holes.\n\n\n\n \n\n\nGolfers will play a course that will hold holes at 18 participating businesses on each side of Main Street down to the end of the 200 block\, then make their way back up Main Street to play the "Downtown Ventura Partners (DVP)\, Bonus Hole-In-One". The event will wrap up with a BBQ dinner at Fluid State.\n\n \nVOLUNTEER INFORMATION:\n\nBelow is a sign up link for volunteers. \n\nhttps://app.smartsheet.com/b/form/019d4199c89378acb52026cf6a2748c2
X-ALT-DESC;FMTTYPE=text/html:<div>\n<div><span style="font-size:14px"><span style="font-family:comic sans ms">We are looking for volunteers to help with the Downtown Ventura Mini Golf Challenge!<br />\n<br />\nSaturday\, April 25th we are turning the 5 block section of the Downtown Ventura Main Street closure\, into an 18 hole Miniature Golf Course.</span></span><br />\n&nbsp\;</div>\n</div>\n\n<div>\n<div><span style="font-size:14px"><span style="font-family:comic sans ms">Local architects\, land designers\, builders and contractors have been partnered and together they are designing and building 18 one of a kind\, mini golf holes.</span></span></div>\n</div>\n\n<div>\n<div>&nbsp\;</div>\n</div>\n\n<div><span style="font-size:14px"><span style="font-family:comic sans ms">Golfers will play a course that will hold holes at 18 participating businesses on each side of Main Street down to the end of the 200 block\, then make their way back up Main Street to play the &ldquo\;Downtown Ventura Partners (DVP)\, Bonus Hole-In-One&rdquo\;. The event will wrap up with a BBQ dinner at Fluid State.</span></span><br />\n&nbsp\;\n<p><span style="font-size:14px"><span style="font-family:comic sans ms"><strong>VOLUNTEER INFORMATION:</strong></span></span><br />\n<span style="font-family:comic sans ms\; font-size:14px">Below is a sign up link for volunteers.&nbsp\;</span></p>\n\n<p><span style="font-size:14px"><span style="font-family:comic sans ms"><a href="https://app.smartsheet.com/b/form/019d4199c89378acb52026cf6a2748c2" style="color: rgb(17\, 85\, 204)\;" target="_blank">https://app.smartsheet.com/b/form/019d4199c89378acb52026cf6a2748c2</a></span></span></p>\n<br />\n<br />\n&nbsp\;</div>\n
LOCATION:
UID:e.827.25915
SEQUENCE:3
DTSTAMP:20260419T133635Z
URL:https://business.venturachamber.com/events/details/volunteers-wanted-for-downtown-ventura-mini-golf-challenge-25915
END:VEVENT

END:VCALENDAR
