BEGIN:VCALENDAR
VERSION:2.0
PRODID:-//ChamberMaster//Event Calendar 2.0//EN
METHOD:PUBLISH
X-PUBLISHED-TTL:P3D
REFRESH-INTERVAL:P3D
CALSCALE:GREGORIAN
BEGIN:VEVENT
DTSTART:20200713T190000Z
DTEND:20200713T203000Z
X-MICROSOFT-CDO-ALLDAYEVENT:FALSE
SUMMARY:Ventura Chamber Toastmasters
DESCRIPTION:Improve communication and leadership skills. Join us\, we have room for new members!
X-ALT-DESC;FMTTYPE=text/html:Improve communication and leadership skills. Join us\, we have room for new members!
LOCATION:Topic: Ventura Chamber Toastmasters Meeting Time: Jul 13\, 2020 12:00 PM Pacific Time (US and Canada) Join Zoom Meeting https://us02web.zoom.us/j/83287314259?pwd=QWt6amEySGd5ZDVmcW11aU5WTk9xdz09 Meeting ID: 832 8731 4259 Password: 851869
UID:e.827.11226
SEQUENCE:3
DTSTAMP:20260425T131019Z
URL:https://business.venturachamber.com/events/details/ventura-chamber-toasmasters-07-13-2020-11226
END:VEVENT

END:VCALENDAR
