BEGIN:VCALENDAR
VERSION:2.0
PRODID:-//ChamberMaster//Event Calendar 2.0//EN
METHOD:PUBLISH
X-PUBLISHED-TTL:P3D
REFRESH-INTERVAL:P3D
CALSCALE:GREGORIAN
BEGIN:VEVENT
DTSTART:20250912T000000Z
DTEND:20250912T013000Z
X-MICROSOFT-CDO-ALLDAYEVENT:FALSE
SUMMARY:Ribbon Cutting: Dockworks @ Kinship Marina
DESCRIPTION:Ribbon Cutting: Dockworks @ Kinship Marina\n\nAddress: 1510 Anchors Way Drive\, 2nd Floor Ventura\n\nDate: 9/11/2025\n\nTime: 5-6:30PM\n\nRibbon Cutting: 5:30PM
X-ALT-DESC;FMTTYPE=text/html:<span style="font-size:11.0pt\;">Ribbon Cutting: Dockworks @ Kinship Marina</span><br />\n<span style="font-size:11.0pt\;">Address: 1510 Anchors Way Drive\, 2nd Floor Ventura</span><br />\n<span style="font-size:11.0pt\;">Date: 9/11/2025</span><br />\n<span style="font-size:11.0pt\;">Time: 5-6:30PM</span><br />\n<span style="font-size:11.0pt\;">Ribbon Cutting: 5:30PM</span>
LOCATION:
UID:e.827.23935
SEQUENCE:3
DTSTAMP:20260421T082948Z
URL:https://business.venturachamber.com/events/details/ribbon-cutting-dockworks-kinship-marina-23935
END:VEVENT

END:VCALENDAR
