BEGIN:VCALENDAR
VERSION:2.0
PRODID:-//ChamberMaster//Event Calendar 2.0//EN
METHOD:PUBLISH
X-PUBLISHED-TTL:P3D
REFRESH-INTERVAL:P3D
CALSCALE:GREGORIAN
BEGIN:VEVENT
DTSTART:20250303T130000Z
DTEND:20250303T150000Z
X-MICROSOFT-CDO-ALLDAYEVENT:FALSE
SUMMARY:Pour\, Pitch\, and Prosper: Social Happy Hour
DESCRIPTION:Join Influential U at Social Tap Ventura for a fun and enriching Happy Hour\, welcoming past\, present\, and future clients!\n\nMix and mingle with like-minded professionals\, grow your influence\, and enjoy lively conversations over drinks.\n\nWhether you're here to network\, relax\, or spark fresh opportunities\, this is the perfect way to kick off your week!
X-ALT-DESC;FMTTYPE=text/html:<p><span style="color:rgb(0\, 0\, 0)\; font-family:aptos\,sans-serif\; font-size:14.6667px">Join Influential U at Social Tap Ventura for a fun and enriching Happy Hour\, welcoming past\, present\, and future clients!</span></p>\n\n<p><span style="color:rgb(0\, 0\, 0)\; font-family:aptos\,sans-serif\; font-size:14.6667px">Mix and mingle with like-minded professionals\, grow your influence\, and enjoy lively conversations over drinks.</span></p>\n\n<p><span style="color:rgb(0\, 0\, 0)\; font-family:aptos\,sans-serif\; font-size:14.6667px">Whether you&#39\;re here to network\, relax\, or spark fresh opportunities\, this is the perfect way to kick off your week!</span></p>\n
LOCATION:Social Tap Ventura 1105 S Seaward Ave\, Ventura\, CA 93001 https://maps.app.goo.gl/aTcMkTYgDjVjkymv8
UID:e.827.23787
SEQUENCE:3
DTSTAMP:20260425T103522Z
URL:https://business.venturachamber.com/events/details/pour-pitch-and-prosper-social-happy-hour-23787
END:VEVENT

END:VCALENDAR
