BEGIN:VCALENDAR
VERSION:2.0
PRODID:-//ChamberMaster//Event Calendar 2.0//EN
METHOD:PUBLISH
X-PUBLISHED-TTL:P3D
REFRESH-INTERVAL:P3D
CALSCALE:GREGORIAN
BEGIN:VEVENT
DTSTART:20240126T200000Z
DTEND:20240126T210000Z
X-MICROSOFT-CDO-ALLDAYEVENT:FALSE
SUMMARY:Lunch Mob @ Urbane Cafe (Downtown)
DESCRIPTION:Join the Ventura YPG for lunch! All are welcome to attend this fun networking event.
X-ALT-DESC;FMTTYPE=text/html:Join the Ventura YPG for lunch! All are welcome to attend this fun networking event.
LOCATION:811 E. Thompson Blvd.
UID:e.827.17874
SEQUENCE:3
DTSTAMP:20260419T220904Z
URL:https://business.venturachamber.com/events/details/lunch-mob-urbane-cafe-downtown-17874
END:VEVENT

END:VCALENDAR
