BEGIN:VCALENDAR
VERSION:2.0
PRODID:-//ChamberMaster//Event Calendar 2.0//EN
METHOD:PUBLISH
X-PUBLISHED-TTL:P3D
REFRESH-INTERVAL:P3D
CALSCALE:GREGORIAN
BEGIN:VEVENT
DTSTART:20180816T010000Z
DTEND:20180816T030000Z
X-MICROSOFT-CDO-ALLDAYEVENT:FALSE
SUMMARY:Human Beings Think in Story
DESCRIPTION:In business or in life\, those who tell the best story have the greatest chance for success!\n\nBusiness Transactions are not just exchanges of material goods and services   they are exchanges of NARRATIVES. In business\, we participate in a series of exchanges and what we are exchanging before we get down to business - are our stories.\n\nBefore we consider\, negotiate or buy\, we accept some story about a product or service. In every transaction\, knowing what those stories are\, how to construct them\, and where they belong are critical to your success.\n\nIn this workshop by Influence Ecology Co-Founder Kirkland Tibbels\, participants will learn what these stories are\, where they belong in transactions\, and how to apply them right away.
X-ALT-DESC;FMTTYPE=text/html:<p>In business or in life\, those who tell the best story have the greatest chance for success!</p>\n\n<p>Business Transactions are not just exchanges of material goods and services &ndash\; they are exchanges of NARRATIVES. In business\, we participate in a series of exchanges&ndash\;and what we are exchanging before we get down to business - are our stories.</p>\n\n<p>Before we consider\, negotiate or buy\, we accept some story about a product or service. In every transaction\, knowing what those stories are\, how to construct them\, and where they belong are critical to your success.</p>\n\n<p>In this workshop by Influence Ecology Co-Founder Kirkland Tibbels\, participants will learn what these stories are\, where they belong in transactions\, and how to apply them right away.</p>\n
LOCATION:City of Camarillo Public Library 4101 Las Posas Rd. Camarillo\, CA 93010
UID:e.827.17654
SEQUENCE:3
DTSTAMP:20260425T152250Z
URL:https://business.venturachamber.com/events/details/human-beings-think-in-story-17654
END:VEVENT

END:VCALENDAR
