BEGIN:VCALENDAR
VERSION:2.0
PRODID:-//ChamberMaster//Event Calendar 2.0//EN
METHOD:PUBLISH
X-PUBLISHED-TTL:P3D
REFRESH-INTERVAL:P3D
CALSCALE:GREGORIAN
BEGIN:VEVENT
DTSTART:20190626T003000Z
DTEND:20190626T020000Z
X-MICROSOFT-CDO-ALLDAYEVENT:FALSE
SUMMARY:Green Drinks @ Himalaya
DESCRIPTION:Join us for a special Green Drinks Mixer at Himalaya on Tuesday June 25!\n\n\n\nSurfrider is co-hosting this Green Drinks and will also be selling raffle tickets for a chance to win awesome prizes. \n\n\n\nGRANDPRIZE: Island Packers trip for two to Santa Cruz Island or whale watching (winner's choice)!\n\n\n\nOther prizes include: Patagonia hat\, City and Surfrider swag\, and more. \n\nInterested in being a Green Certified Business? Want to find out about the Green Task Force? Join us for Green Drinks where you can network\, have fun\, learn something new and support a local Green Business.
X-ALT-DESC;FMTTYPE=text/html:<span style="caret-color: rgb(29\, 33\, 41)\; color: rgb(29\, 33\, 41)\; font-family: system-ui\, -apple-system\, BlinkMacSystemFont\, &quot\;.SFNSText-Regular&quot\;\, sans-serif\; font-size: 14px\; white-space: pre-wrap\;">Join us for a special Green Drinks Mixer at Himalaya on Tuesday June 25!</span><br style="caret-color: rgb(29\, 33\, 41)\; color: rgb(29\, 33\, 41)\; font-family: system-ui\, -apple-system\, BlinkMacSystemFont\, &quot\;.SFNSText-Regular&quot\;\, sans-serif\; font-size: 14px\; white-space: pre-wrap\;" />\n<br style="caret-color: rgb(29\, 33\, 41)\; color: rgb(29\, 33\, 41)\; font-family: system-ui\, -apple-system\, BlinkMacSystemFont\, &quot\;.SFNSText-Regular&quot\;\, sans-serif\; font-size: 14px\; white-space: pre-wrap\;" />\n<span style="caret-color: rgb(29\, 33\, 41)\; color: rgb(29\, 33\, 41)\; font-family: system-ui\, -apple-system\, BlinkMacSystemFont\, &quot\;.SFNSText-Regular&quot\;\, sans-serif\; font-size: 14px\; white-space: pre-wrap\;">Surfrider is co-hosting this Green Drinks and will also be selling raffle tickets for a chance to win awesome prizes. </span><br style="caret-color: rgb(29\, 33\, 41)\; color: rgb(29\, 33\, 41)\; font-family: system-ui\, -apple-system\, BlinkMacSystemFont\, &quot\;.SFNSText-Regular&quot\;\, sans-serif\; font-size: 14px\; white-space: pre-wrap\;" />\n<br style="caret-color: rgb(29\, 33\, 41)\; color: rgb(29\, 33\, 41)\; font-family: system-ui\, -apple-system\, BlinkMacSystemFont\, &quot\;.SFNSText-Regular&quot\;\, sans-serif\; font-size: 14px\; white-space: pre-wrap\;" />\n<span style="caret-color: rgb(29\, 33\, 41)\; color: rgb(29\, 33\, 41)\; font-family: system-ui\, -apple-system\, BlinkMacSystemFont\, &quot\;.SFNSText-Regular&quot\;\, sans-serif\; font-size: 14px\; white-space: pre-wrap\;">GRANDPRIZE: Island Packers trip for two to Santa Cruz Island or whale watching (winner&rsquo\;s choice)!</span><br style="caret-color: rgb(29\, 33\, 41)\; color: rgb(29\, 33\, 41)\; font-family: system-ui\, -apple-system\, BlinkMacSystemFont\, &quot\;.SFNSText-Regular&quot\;\, sans-serif\; font-size: 14px\; white-space: pre-wrap\;" />\n<br style="caret-color: rgb(29\, 33\, 41)\; color: rgb(29\, 33\, 41)\; font-family: system-ui\, -apple-system\, BlinkMacSystemFont\, &quot\;.SFNSText-Regular&quot\;\, sans-serif\; font-size: 14px\; white-space: pre-wrap\;" />\n<span style="caret-color: rgb(29\, 33\, 41)\; color: rgb(29\, 33\, 41)\; font-family: system-ui\, -apple-system\, BlinkMacSystemFont\, &quot\;.SFNSText-Regular&quot\;\, sans-serif\; font-size: 14px\; white-space: pre-wrap\;">Other prizes include: Patagonia hat\, City and Surfrider swag\, and more. </span><br />\nInterested in being a Green Certified Business? Want to find out about the Green Task Force? Join us for Green Drinks where you can network\, have fun\, learn something new and support a local Green Business.&nbsp\;
LOCATION:35 W. MAin St.\, Ventura
UID:e.827.18122
SEQUENCE:3
DTSTAMP:20260421T145249Z
URL:https://business.venturachamber.com/events/details/green-drinks-himalaya-18122
END:VEVENT

END:VCALENDAR
