BEGIN:VCALENDAR
VERSION:2.0
PRODID:-//ChamberMaster//Event Calendar 2.0//EN
METHOD:PUBLISH
X-PUBLISHED-TTL:P3D
REFRESH-INTERVAL:P3D
CALSCALE:GREGORIAN
BEGIN:VEVENT
DTSTART:20250910T190000Z
DTEND:20250910T200000Z
X-MICROSOFT-CDO-ALLDAYEVENT:FALSE
SUMMARY:Estate Planning Mom Virtual Webinar
DESCRIPTION:Join Us for a FREE Estate Planning Webinar \n\n\n\nHave you been putting off creating your Will year after year? Are you concerned about who would care for your children if something happened to you today? Ensure your peace of mind by attending our upcoming Estate Planning webinar!\n\n\n\n$500 OFF A TRUST PACKAGE WHEN YOU ATTEND A WEBINAR!\n\n\n\n\n\nDates & Times:\n\n\n\nWednesday\, September 10th at 12:00 PM\n\n\n\nIn this informative 30-minute online session\, Estate Planning Mom and Attorney Crista Hermance will guide you through the essentials of estate planning\, including:\n\n\n\nLong & Short Term Guardianship for Your Children\n\nWills\, Trusts\, and Powers of Attorney\n\n Advance Health Care Directives & HIPAA Authorization\n\n\n\nDon't miss out on this opportunity to finally check off estate planning from your to-do list! Register now for the date that suits you best and take the first step towards securing your family's future.\n\n\n\nRegister Here: https://hermancelaw.com/webinar
X-ALT-DESC;FMTTYPE=text/html:&nbsp\;Join Us for a FREE Estate Planning Webinar&nbsp\;<br />\n<br />\nHave you been putting off creating your Will year after year? Are you concerned about who would care for your children if something happened to you today? Ensure your peace of mind by attending our upcoming Estate Planning webinar!<br />\n<br />\n$500 OFF A TRUST PACKAGE WHEN YOU ATTEND A WEBINAR!<br />\n<br />\n<br />\nDates &amp\; Times:<br />\n<br />\nWednesday\, September 10th at 12:00 PM<br />\n<br />\nIn this informative 30-minute online session\, Estate Planning Mom and Attorney Crista Hermance will guide you through the essentials of estate planning\, including:<br />\n<br />\nLong &amp\; Short Term Guardianship for Your Children<br />\nWills\, Trusts\, and Powers of Attorney<br />\n&nbsp\;Advance Health Care Directives &amp\; HIPAA Authorization<br />\n<br />\nDon&#39\;t miss out on this opportunity to finally check off estate planning from your to-do list! Register now for the date that suits you best and take the first step towards securing your family&#39\;s future.<br />\n<br />\nRegister Here: https://hermancelaw.com/webinar
LOCATION:Register Here: https://hermancelaw.com/webinar
UID:e.827.23943
SEQUENCE:3
DTSTAMP:20260421T084600Z
URL:https://business.venturachamber.com/events/details/estate-planning-mom-virtual-webinar-09-10-2025-23943
END:VEVENT

END:VCALENDAR
