BEGIN:VCALENDAR
VERSION:2.0
PRODID:-//ChamberMaster//Event Calendar 2.0//EN
METHOD:PUBLISH
X-PUBLISHED-TTL:P3D
REFRESH-INTERVAL:P3D
CALSCALE:GREGORIAN
BEGIN:VEVENT
DTSTART:20280604T183000Z
DTEND:20280604T210000Z
X-MICROSOFT-CDO-ALLDAYEVENT:FALSE
SUMMARY:2026 Women United Education Awards Luncheon
DESCRIPTION:United Way of Ventura County's Women United Education Awards Luncheon will once again be honoring single mothers who are pursuing their education. In 2024-25\, Women United presented 11 education awards to local single mothers pursuing their education and has given out 91 awards since 2018.\n\nSixty-four percent of single mothers in Ventura County do not earn sufficient income to meet their basic needs and a critical component is Education.\n\nThe Women United Luncheon will take place on Thursday\, June 4\, 2026\, at California Lutheran University and will recognize Ventura County single mothers who are pursuing their education and supporting their families in the process. Recipients of the Women United Education Award are single mothers who are completing their associate degree and transferring to a four-year university or technical program and have children under the age of eighteen living in the home. This financial award may be used to offset any costs associated with efforts to attain higher education\, including tuition\, books\, childcare\, and transportation. \n\n \n\nOur keynote speaker this year is Graciela Casillas. "We are so excited to have Graciela speak about her inspiring journey as a World Champion Boxer\, an educator\, and a mother" said President & CEO of United Way of Ventura County\, Mitchel Sloan. \n\n\n\nDuring the event\, Women United hosts a unique "Power of the Purse" providing participants with an opportunity to win one or more luxury designer purses. Don't miss it!\n\n \n\nFor more information on sponsorship opportunities contact Dawn Pettersen at   \n\ndawn.pettersen@vcunitedway.org
X-ALT-DESC;FMTTYPE=text/html:<p><span style="font-size:14px"><span style="font-family:arial\,helvetica\,sans-serif"><a href="https://vcunitedway.org/">United Way of Ventura County</a>&rsquo\;s Women United Education Awards Luncheon will once again be honoring single mothers who are pursuing their education. In 2024-25\, Women United presented 11 education awards to local single mothers pursuing their education and has given out 91 awards since 2018.</span></span></p>\n\n<p style="text-align: center\;"><span style="font-size:14px"><strong><em>Sixty-four percent of single mothers in Ventura County do not earn sufficient income to meet their basic needs and a critical component is Education.</em></strong></span></p>\n\n<p><span style="font-size:14px"><span style="font-family:arial\,helvetica\,sans-serif">The Women United Luncheon will take place on <strong>Thursday\, June 4\, 2026\, at California Lutheran University</strong> and will recognize Ventura County single mothers who are pursuing their education and supporting their families in the process. Recipients of the <strong>Women United Education Award </strong>are single mothers who are completing their associate degree and transferring to a four-year university or technical program and have children under the age of eighteen living in the home. This financial award may be used to offset any costs associated with efforts to attain higher education\, including tuition\, books\, childcare\, and transportation. </span></span><br />\n&nbsp\;</p>\n\n<p><span style="font-size:14px"><span style="font-family:arial\,helvetica\,sans-serif">Our keynote speaker this year is Graciela Casillas.&nbsp\;&ldquo\;We are so excited to have Graciela speak about her inspiring journey as a World Champion Boxer\, an educator\, and a mother&rdquo\; said President &amp\; CEO of United Way of Ventura County\, Mitchel Sloan.&nbsp\;<br />\n<br />\nDuring the event\, Women United hosts a unique &ldquo\;Power of the Purse&rdquo\; providing participants with an opportunity to win one or more luxury designer purses. Don&rsquo\;t miss it!<br />\n&nbsp\;<br />\nFor more information on sponsorship opportunities contact Dawn Pettersen at &nbsp\;&nbsp\;<br />\n<a href="mailto:jill.shaffer@vcunitedway.org">dawn.pettersen@vcunitedway.org</a> &nbsp\;</span></span></p>\n
LOCATION:California Lutheran University\, Gilbert Sports & Fitness Center\, 130 Overton Court\, Thousand Oaks
UID:e.827.25957
SEQUENCE:3
DTSTAMP:20260421T104304Z
URL:https://business.venturachamber.com/events/details/2026-women-united-education-awards-luncheon-06-04-2028-25957
END:VEVENT

END:VCALENDAR
